BEGIN:VCALENDAR
VERSION:2.0
PRODID:-//Advance Behavioural Training - ECPv4.6.6//NONSGML v1.0//EN
CALSCALE:GREGORIAN
METHOD:PUBLISH
X-WR-CALNAME:Advance Behavioural Training
X-ORIGINAL-URL:http://advancebehaviouraltraining.com.au
X-WR-CALDESC:Events for Advance Behavioural Training
BEGIN:VEVENT
DTSTART;TZID=Australia/Adelaide:20180310T140000
DTEND;TZID=Australia/Adelaide:20180310T190000
DTSTAMP:20180224T130703
CREATED:20180221T160736Z
LAST-MODIFIED:20180221T160736Z
UID:4083-1520652600-1520670600@advancebehaviouraltraining.com.au
SUMMARY:First Aid Workshop
DESCRIPTION:Run by experienced and qualified staff\, this 5 hour workshop will go through first aid for dogs with hands on activities using staff dogs. You will learn how to apply emergency first aid\, different bandaging methods\, pet CPR\, general health care\, handling\, and much more! \nRefreshments provided\n$80 per person for the course\n$120 includes the workshop + a first aid kit! \nSaturday the 10th of March 2018 \n1.45pm for a 2pm start – 7pm finish \n  \n
URL:http://advancebehaviouraltraining.com.au/event/first-aid-workshop-4/
LOCATION:41-47 Glenroy Street \, Athol Park \, SA\, 5012\, Australia
END:VEVENT
BEGIN:VEVENT
DTSTART;TZID=Australia/Adelaide:20180324T140000
DTEND;TZID=Australia/Adelaide:20180324T180000
DTSTAMP:20180224T130703
CREATED:20180221T153158Z
LAST-MODIFIED:20180221T160819Z
UID:4071-1521862200-1521876600@advancebehaviouraltraining.com.au
SUMMARY:Off Lead and Recalls Skills: External Workshop
DESCRIPTION:Do you wish your dog would respond to you better when you’re at the beach or at the park? \nThis 4 hour workshop is aimed at improving your dogs reliability and responsiveness to you in more exciting environments. \nDuring this workshop you will work on \n\nWalking skills\nAutomatic check ins\nResponding to commands at various distances\nRecalls\nImpulse control\nDistracted recalls\n\nTo improve your confidence in the most difficult situations we will be applying these exercises to multiple environments in a controlled manner to ensure all dogs are set up to succeed including; a park setting\, the beach\, and in a café setting. \nSaturday the 24th of March 2018\, 1:45pm for a 2pm start – 6pm finish. \nLocation TBA \nRefreshments Provided\n*Bookings are essential* \n*Must have attended an Offlead Casual Class*\nTo register or for further information contact us on 0431 301 118 or email info@advancebehaviouraltraining.com.au \n
URL:http://advancebehaviouraltraining.com.au/event/off-lead-recalls-skills-external-workshop/
LOCATION:SA
END:VEVENT
BEGIN:VEVENT
DTSTART;TZID=Australia/Adelaide:20180424T140000
DTEND;TZID=Australia/Adelaide:20180424T170000
DTSTAMP:20180224T130703
CREATED:20180221T154042Z
LAST-MODIFIED:20180221T160235Z
UID:4073-1524544200-1524555000@advancebehaviouraltraining.com.au
SUMMARY:Introductory Self-Control & Relaxation Workshop
DESCRIPTION:\nThis 4 hour workshop focuses on helping you to learn how to relax your dog and improve their self control in stimulating environments.\n\n\n\nUseful for anxious\, reactive and hyperactive dogs.\n\n\n\nRefreshments provided\n\n\n41 Glenroy Street\, Athol Park\n\n\nBYO Dog – $150 per dog\n\n\nObservers – $80 per person\n\n\nSaturday the 21st of April 2018\n1:45pm for a 2pm start – 5pm finish\n
URL:http://advancebehaviouraltraining.com.au/event/introductory-self-control-relaxation-workshop-3/
LOCATION:41-47 Glenroy Street \, Athol Park \, SA\, 5012\, Australia
END:VEVENT
BEGIN:VEVENT
DTSTART;TZID=Australia/Adelaide:20180519T140000
DTEND;TZID=Australia/Adelaide:20180519T170000
DTSTAMP:20180224T130703
CREATED:20180221T160130Z
LAST-MODIFIED:20180221T160202Z
UID:4076-1526704200-1526715000@advancebehaviouraltraining.com.au
SUMMARY:Self Control & Relaxation Workshop (Ongoing)
DESCRIPTION:Is your dog: Hyperactive\, hyper stimulated\, nervous\, anxious and/or stressed? Have you attended the Introduction to Self-Control & Relaxation Workshop? You will build from what you have already learnt when it comes to relaxing your dog. You will be able to relax your dog in less time\, work in more difficult environments and continue to build the bond and trust between you and your dog. \nSaturday 19th of May 2018\n1:45pm for a 2pm start – 5pm finish\n41-47 Glenroy Street\, Athol Park\n$100 ($70 for observers )\nRefreshments provided\nPlease bring a mat for your dog to sit on and treats. \nBOOKINGS ESSENTIAL!\nTo confirm your booking call 0431 301 118 or email us at info@advancebehaviouraltraining.com.au \n
URL:http://advancebehaviouraltraining.com.au/event/self-control-relaxation-workshop-ongoing-2/
LOCATION:41-47 Glenroy Street \, Athol Park \, SA\, 5012\, Australia
END:VEVENT
END:VCALENDAR